BEGIN:VCALENDAR
VERSION:2.0
PRODID:-//285 South - ECPv6.15.20//NONSGML v1.0//EN
CALSCALE:GREGORIAN
METHOD:PUBLISH
X-WR-CALNAME:285 South
X-ORIGINAL-URL:https://285south.com
X-WR-CALDESC:Events for 285 South
REFRESH-INTERVAL;VALUE=DURATION:PT1H
X-Robots-Tag:noindex
X-PUBLISHED-TTL:PT1H
BEGIN:VTIMEZONE
TZID:America/New_York
BEGIN:DAYLIGHT
TZOFFSETFROM:-0500
TZOFFSETTO:-0400
TZNAME:EDT
DTSTART:20230312T070000
END:DAYLIGHT
BEGIN:STANDARD
TZOFFSETFROM:-0400
TZOFFSETTO:-0500
TZNAME:EST
DTSTART:20231105T060000
END:STANDARD
BEGIN:DAYLIGHT
TZOFFSETFROM:-0500
TZOFFSETTO:-0400
TZNAME:EDT
DTSTART:20240310T070000
END:DAYLIGHT
BEGIN:STANDARD
TZOFFSETFROM:-0400
TZOFFSETTO:-0500
TZNAME:EST
DTSTART:20241103T060000
END:STANDARD
BEGIN:DAYLIGHT
TZOFFSETFROM:-0500
TZOFFSETTO:-0400
TZNAME:EDT
DTSTART:20250309T070000
END:DAYLIGHT
BEGIN:STANDARD
TZOFFSETFROM:-0400
TZOFFSETTO:-0500
TZNAME:EST
DTSTART:20251102T060000
END:STANDARD
END:VTIMEZONE
BEGIN:VEVENT
DTSTART;TZID=America/New_York:20240912T180000
DTEND;TZID=America/New_York:20240912T210000
DTSTAMP:20260424T054412
CREATED:20240910T185424Z
LAST-MODIFIED:20240910T185424Z
UID:4994-1726164000-1726174800@285south.com
SUMMARY:Dinner at Chai Pani with local chefs
DESCRIPTION:As part of the Atlanta Food and Wine Festival\, Chai Pani is hosting a dinner featuring  Chef Sahar Siddiqi of Chai Pani Decatur\, Chef Mia Ocino of Kamayan\, and Editor of Eater Atlanta\, Henna Bakshi.  The menu is a collaboration of Chef Siddiqi and Chef Ocino\, and will be served family style.
URL:https://285south.com/event/dinner-at-chai-pani-with-local-chefs/
LOCATION:Chai Pani\, 406 W Ponce de Leon Ave\, Decatur\, GA\, 30030\, United States
END:VEVENT
END:VCALENDAR