BEGIN:VCALENDAR
VERSION:2.0
PRODID:-//285 South - ECPv6.15.20//NONSGML v1.0//EN
CALSCALE:GREGORIAN
METHOD:PUBLISH
X-WR-CALNAME:285 South
X-ORIGINAL-URL:https://285south.com
X-WR-CALDESC:Events for 285 South
REFRESH-INTERVAL;VALUE=DURATION:PT1H
X-Robots-Tag:noindex
X-PUBLISHED-TTL:PT1H
BEGIN:VTIMEZONE
TZID:America/New_York
BEGIN:DAYLIGHT
TZOFFSETFROM:-0500
TZOFFSETTO:-0400
TZNAME:EDT
DTSTART:20240310T070000
END:DAYLIGHT
BEGIN:STANDARD
TZOFFSETFROM:-0400
TZOFFSETTO:-0500
TZNAME:EST
DTSTART:20241103T060000
END:STANDARD
BEGIN:DAYLIGHT
TZOFFSETFROM:-0500
TZOFFSETTO:-0400
TZNAME:EDT
DTSTART:20250309T070000
END:DAYLIGHT
BEGIN:STANDARD
TZOFFSETFROM:-0400
TZOFFSETTO:-0500
TZNAME:EST
DTSTART:20251102T060000
END:STANDARD
BEGIN:DAYLIGHT
TZOFFSETFROM:-0500
TZOFFSETTO:-0400
TZNAME:EDT
DTSTART:20260308T070000
END:DAYLIGHT
BEGIN:STANDARD
TZOFFSETFROM:-0400
TZOFFSETTO:-0500
TZNAME:EST
DTSTART:20261101T060000
END:STANDARD
END:VTIMEZONE
BEGIN:VEVENT
DTSTART;TZID=America/New_York:20250528T000000
DTEND;TZID=America/New_York:20250531T000000
DTSTAMP:20260422T095335
CREATED:20250516T160233Z
LAST-MODIFIED:20250516T160300Z
UID:6764-1748390400-1748649600@285south.com
SUMMARY:Nakba Week Film Series
DESCRIPTION:The Tara Theater is showing a series of films commemorating the Nakba\, the mass displacement of Palestinians  during the 1948 Arab-Israeli war\, organized by Resistance Cinema. Proceeds go to the Middle Eastern Children’s Alliance. Films include Salt of This Sea (5/28)\, Arna’s Children (5/30)\, and Farha (5/31). \nBuy tickets here: \nSalt of This Sea: bit.ly/ATLNakbaFilm28\nArna’s Children: bit.ly/ATLNakbaFilm30\nFarha: bit.ly/ATLNakbaFilm31 \nMore info here.
URL:https://285south.com/event/nakba-week-film-series/
LOCATION:Tara Theatre\, 2345 Cheshire Bridge Rd NE\, Atlanta
END:VEVENT
END:VCALENDAR