BEGIN:VCALENDAR
VERSION:2.0
PRODID:-//285 South - ECPv6.15.20//NONSGML v1.0//EN
CALSCALE:GREGORIAN
METHOD:PUBLISH
X-WR-CALNAME:285 South
X-ORIGINAL-URL:https://285south.com
X-WR-CALDESC:Events for 285 South
REFRESH-INTERVAL;VALUE=DURATION:PT1H
X-Robots-Tag:noindex
X-PUBLISHED-TTL:PT1H
BEGIN:VTIMEZONE
TZID:America/New_York
BEGIN:DAYLIGHT
TZOFFSETFROM:-0500
TZOFFSETTO:-0400
TZNAME:EDT
DTSTART:20240310T070000
END:DAYLIGHT
BEGIN:STANDARD
TZOFFSETFROM:-0400
TZOFFSETTO:-0500
TZNAME:EST
DTSTART:20241103T060000
END:STANDARD
BEGIN:DAYLIGHT
TZOFFSETFROM:-0500
TZOFFSETTO:-0400
TZNAME:EDT
DTSTART:20250309T070000
END:DAYLIGHT
BEGIN:STANDARD
TZOFFSETFROM:-0400
TZOFFSETTO:-0500
TZNAME:EST
DTSTART:20251102T060000
END:STANDARD
BEGIN:DAYLIGHT
TZOFFSETFROM:-0500
TZOFFSETTO:-0400
TZNAME:EDT
DTSTART:20260308T070000
END:DAYLIGHT
BEGIN:STANDARD
TZOFFSETFROM:-0400
TZOFFSETTO:-0500
TZNAME:EST
DTSTART:20261101T060000
END:STANDARD
END:VTIMEZONE
BEGIN:VEVENT
DTSTART;TZID=America/New_York:20250605T180000
DTEND;TZID=America/New_York:20250605T193000
DTSTAMP:20260422T082616
CREATED:20250521T183335Z
LAST-MODIFIED:20250602T174307Z
UID:6812-1749146400-1749151800@285south.com
SUMMARY:Community Conversation: "Responding to Trump's Immigration Policies"
DESCRIPTION:Casa Alterna\, a nonprofit that provides housing to vulnerable immigrants\, is hosting Dr. Austin Kocher\, a geographer at Syracuse University who has been tracking and researching immigration enforcement for almost a decade\, for a public talk entitled\, “Clarity in the Chaos: Responding to Trump’s Immigration Policies.”\n\n\n\n\n\n\n\nFor more info\, contact: anton@casaalterna.org. More info here. \n  \n  \n  \n\n\n 
URL:https://285south.com/event/community-conversation-responding-to-trumps-immigration-policies/
LOCATION:Atlanta Friends Meeting House\, 701 W Howard Ave\, Decatur\, GA\, 30030
END:VEVENT
END:VCALENDAR