BEGIN:VCALENDAR
VERSION:2.0
PRODID:-//285 South - ECPv6.15.20//NONSGML v1.0//EN
CALSCALE:GREGORIAN
METHOD:PUBLISH
X-ORIGINAL-URL:https://285south.com
X-WR-CALDESC:Events for 285 South
REFRESH-INTERVAL;VALUE=DURATION:PT1H
X-Robots-Tag:noindex
X-PUBLISHED-TTL:PT1H
BEGIN:VTIMEZONE
TZID:America/New_York
BEGIN:DAYLIGHT
TZOFFSETFROM:-0500
TZOFFSETTO:-0400
TZNAME:EDT
DTSTART:20240310T070000
END:DAYLIGHT
BEGIN:STANDARD
TZOFFSETFROM:-0400
TZOFFSETTO:-0500
TZNAME:EST
DTSTART:20241103T060000
END:STANDARD
BEGIN:DAYLIGHT
TZOFFSETFROM:-0500
TZOFFSETTO:-0400
TZNAME:EDT
DTSTART:20250309T070000
END:DAYLIGHT
BEGIN:STANDARD
TZOFFSETFROM:-0400
TZOFFSETTO:-0500
TZNAME:EST
DTSTART:20251102T060000
END:STANDARD
BEGIN:DAYLIGHT
TZOFFSETFROM:-0500
TZOFFSETTO:-0400
TZNAME:EDT
DTSTART:20260308T070000
END:DAYLIGHT
BEGIN:STANDARD
TZOFFSETFROM:-0400
TZOFFSETTO:-0500
TZNAME:EST
DTSTART:20261101T060000
END:STANDARD
END:VTIMEZONE
BEGIN:VEVENT
DTSTART;TZID=America/New_York:20250802T090000
DTEND;TZID=America/New_York:20250802T150000
DTSTAMP:20260424T125350
CREATED:20250703T175158Z
LAST-MODIFIED:20250703T175158Z
UID:7175-1754125200-1754146800@285south.com
SUMMARY:Latin American Association's Health Expo
DESCRIPTION:The Latin American Association hosts its annual health expo\, where community members can receive free health screenings – everything from blood pressure to glucose to HIV testing – as well as information and consultations from professionals. More info here.
URL:https://285south.com/event/latin-american-associations-health-expo/
LOCATION:Latin American Association\, 2750 Buford Highway NE\, Atlanta\, GA\, United States
END:VEVENT
BEGIN:VEVENT
DTSTART;TZID=America/New_York:20250802T120000
DTEND;TZID=America/New_York:20250802T150000
DTSTAMP:20260424T125350
CREATED:20250725T162617Z
LAST-MODIFIED:20250725T162617Z
UID:7252-1754136000-1754146800@285south.com
SUMMARY:Arabic Music at Alif Institute
DESCRIPTION:Curious about Arabic music? The Alif Institute will host a Music Open House on Saturday\, August 2\, from 12:00 to 3:00 PM at its location in DeKalb County. For more information\, visit their website here.
URL:https://285south.com/event/arabic-music-at-alif-institute/
LOCATION:3288 Marjan Drive\, Atlanta
END:VEVENT
END:VCALENDAR