BEGIN:VCALENDAR
VERSION:2.0
PRODID:-//285 South - ECPv6.15.20//NONSGML v1.0//EN
CALSCALE:GREGORIAN
METHOD:PUBLISH
X-ORIGINAL-URL:https://285south.com
X-WR-CALDESC:Events for 285 South
REFRESH-INTERVAL;VALUE=DURATION:PT1H
X-Robots-Tag:noindex
X-PUBLISHED-TTL:PT1H
BEGIN:VTIMEZONE
TZID:America/New_York
BEGIN:DAYLIGHT
TZOFFSETFROM:-0500
TZOFFSETTO:-0400
TZNAME:EDT
DTSTART:20250309T070000
END:DAYLIGHT
BEGIN:STANDARD
TZOFFSETFROM:-0400
TZOFFSETTO:-0500
TZNAME:EST
DTSTART:20251102T060000
END:STANDARD
BEGIN:DAYLIGHT
TZOFFSETFROM:-0500
TZOFFSETTO:-0400
TZNAME:EDT
DTSTART:20260308T070000
END:DAYLIGHT
BEGIN:STANDARD
TZOFFSETFROM:-0400
TZOFFSETTO:-0500
TZNAME:EST
DTSTART:20261101T060000
END:STANDARD
BEGIN:DAYLIGHT
TZOFFSETFROM:-0500
TZOFFSETTO:-0400
TZNAME:EDT
DTSTART:20270314T070000
END:DAYLIGHT
BEGIN:STANDARD
TZOFFSETFROM:-0400
TZOFFSETTO:-0500
TZNAME:EST
DTSTART:20271107T060000
END:STANDARD
END:VTIMEZONE
BEGIN:VEVENT
DTSTART;VALUE=DATE:20260123
DTEND;VALUE=DATE:20260406
DTSTAMP:20260424T071601
CREATED:20260127T145848Z
LAST-MODIFIED:20260313T194847Z
UID:8318-1769126400-1775433599@285south.com
SUMMARY:Prisontown
DESCRIPTION:Written by and starring former Out of Hand Associate Artistic Director\, Lee Osorio\, Prisontown is a play that follows a writer who goes home to Lumpkin\, GA\, which is home to one of the nation’s largest immigration detention centers. In the play\, presented in 40 living rooms across the metro area\,  the writer “witnesses the barbarity of the nation’s immigration crisis\, and a small town torn by poverty and the prison industry.” \nThe play will be presented until April 5\, 2026. Tickets here.
URL:https://285south.com/event/prisontown/
CATEGORIES:Entertainment
END:VEVENT
BEGIN:VEVENT
DTSTART;TZID=America/New_York:20260308T120000
DTEND;TZID=America/New_York:20260308T150000
DTSTAMP:20260424T071601
CREATED:20260303T171344Z
LAST-MODIFIED:20260303T171344Z
UID:8537-1772971200-1772982000@285south.com
SUMMARY:Eid Gift Drive & Wrapping Party
DESCRIPTION:Several nonprofit partners\, including Ethaar and Helping the Community\, are collecing toys to distribute in time for Eid\, marking the end of Ramadan.  They’re looking for folks who want to help out with the annual gift drive – details here.
URL:https://285south.com/event/eid-gift-drive-wrapping-party/
LOCATION:Alim Institute at Al Falah\, 1835 Shackleford Ct.\, Norcross\, GA\, 30093\, United States
END:VEVENT
BEGIN:VEVENT
DTSTART;TZID=America/New_York:20260308T183000
DTEND;TZID=America/New_York:20260308T210000
DTSTAMP:20260424T071601
CREATED:20260303T171802Z
LAST-MODIFIED:20260303T184317Z
UID:8530-1772994600-1773003600@285south.com
SUMMARY:International Women's Day Dinner
DESCRIPTION:Refugee Women’s Network (RWN) are hosting a dinner  in honor of International Women’s Day  themed: “Give to Gain.” The evening will feature  food from The Chef’s Club\, as well as stories from community members.
URL:https://285south.com/event/international-womens-day-dinner/
LOCATION:Hawkins Hall at Legacy Park\, 500 South Columbia Drive\, Decatur\, GA\, 30030\, United States
END:VEVENT
END:VCALENDAR