BEGIN:VCALENDAR
VERSION:2.0
PRODID:-//285 South - ECPv6.15.20//NONSGML v1.0//EN
CALSCALE:GREGORIAN
METHOD:PUBLISH
X-ORIGINAL-URL:https://285south.com
X-WR-CALDESC:Events for 285 South
REFRESH-INTERVAL;VALUE=DURATION:PT1H
X-Robots-Tag:noindex
X-PUBLISHED-TTL:PT1H
BEGIN:VTIMEZONE
TZID:America/New_York
BEGIN:DAYLIGHT
TZOFFSETFROM:-0500
TZOFFSETTO:-0400
TZNAME:EDT
DTSTART:20250309T070000
END:DAYLIGHT
BEGIN:STANDARD
TZOFFSETFROM:-0400
TZOFFSETTO:-0500
TZNAME:EST
DTSTART:20251102T060000
END:STANDARD
BEGIN:DAYLIGHT
TZOFFSETFROM:-0500
TZOFFSETTO:-0400
TZNAME:EDT
DTSTART:20260308T070000
END:DAYLIGHT
BEGIN:STANDARD
TZOFFSETFROM:-0400
TZOFFSETTO:-0500
TZNAME:EST
DTSTART:20261101T060000
END:STANDARD
BEGIN:DAYLIGHT
TZOFFSETFROM:-0500
TZOFFSETTO:-0400
TZNAME:EDT
DTSTART:20270314T070000
END:DAYLIGHT
BEGIN:STANDARD
TZOFFSETFROM:-0400
TZOFFSETTO:-0500
TZNAME:EST
DTSTART:20271107T060000
END:STANDARD
END:VTIMEZONE
BEGIN:VEVENT
DTSTART;VALUE=DATE:20260123
DTEND;VALUE=DATE:20260406
DTSTAMP:20260422T152324
CREATED:20260127T145848Z
LAST-MODIFIED:20260313T194847Z
UID:8318-1769126400-1775433599@285south.com
SUMMARY:Prisontown
DESCRIPTION:Written by and starring former Out of Hand Associate Artistic Director\, Lee Osorio\, Prisontown is a play that follows a writer who goes home to Lumpkin\, GA\, which is home to one of the nation’s largest immigration detention centers. In the play\, presented in 40 living rooms across the metro area\,  the writer “witnesses the barbarity of the nation’s immigration crisis\, and a small town torn by poverty and the prison industry.” \nThe play will be presented until April 5\, 2026. Tickets here.
URL:https://285south.com/event/prisontown/
CATEGORIES:Entertainment
END:VEVENT
BEGIN:VEVENT
DTSTART;TZID=America/New_York:20260314T100000
DTEND;TZID=America/New_York:20260314T130000
DTSTAMP:20260422T152324
CREATED:20260303T172845Z
LAST-MODIFIED:20260303T175340Z
UID:8568-1773482400-1773493200@285south.com
SUMMARY:Ice Cakes Not People
DESCRIPTION:Several bakers and chefs\, from Atlanta area small businesses and pop-ups including Vinny’s Mutual Aid Bakery\, Tan Brown Coffee\, Kamayan\, and Punjabi Spice Company\, are coming together to raise  money for the Georgia Latino Alliance for Human Rights @glahr.ga as part of the Grassroots-Nationwide-Community-Bake Sale. Register to attend here. \n 
URL:https://285south.com/event/ice-cakes-not-people/
LOCATION:Minhwa Spirits\, 2421 Van Fleet Cir Suite 124\, Doraville\, GA\, 30360\, United States
END:VEVENT
BEGIN:VEVENT
DTSTART;TZID=America/New_York:20260314T190000
DTEND;TZID=America/New_York:20260314T210000
DTSTAMP:20260422T152324
CREATED:20260303T175941Z
LAST-MODIFIED:20260303T175941Z
UID:8553-1773514800-1773522000@285south.com
SUMMARY:Iftar Together in Clarkston
DESCRIPTION:The Afghan American Alliance of Georgia\, in partnership with Refugee Coffee Co\, Friends of Refugees\, and Ethaar\, are hosting an iftar at the Clarkston location of Refuge Coffee Co. They are looking for community members to chip in and help pay for the iftar! More info on how to donate here\, and info on the iftar here.
URL:https://285south.com/event/iftar-together-in-clarkston/
LOCATION:Refuge Coffee Co. Clarkston\, 4170 E Ponce De Leon Ave.\, Clarkston\, GA\, 30021\, United States
END:VEVENT
BEGIN:VEVENT
DTSTART;TZID=America/New_York:20260314T193000
DTEND;TZID=America/New_York:20260314T210000
DTSTAMP:20260422T152324
CREATED:20260303T180916Z
LAST-MODIFIED:20260303T180916Z
UID:8582-1773516600-1773522000@285south.com
SUMMARY:Chinatown Memories
DESCRIPTION:The Atlanta Chinese Dance Company’s production “Chinatown Memories\,” draws on features of cultural life including Lunar New Year festivities and martial arts films\, and also includes a mini dance drama that honors Chinese teen and American suffragists who advocates for women’s rights in the early 1900s.  Tickets here. \n\n\n\n 
URL:https://285south.com/event/chinatown-memories/
LOCATION:Gas South Theater\, 6400 Sugarloaf Parkway\, Duluth\, GA\, 30097\, United States
END:VEVENT
BEGIN:VEVENT
DTSTART;TZID=America/New_York:20260314T220000
DTEND;TZID=America/New_York:20260315T050000
DTSTAMP:20260422T152324
CREATED:20260303T181634Z
LAST-MODIFIED:20260316T013418Z
UID:8588-1773525600-1773550800@285south.com
SUMMARY:ATL Sehri Night
DESCRIPTION:Those fasting for Ramadan\, and anyone interested\, can enjoy their pre-dawn meal at ATL Sehri Night at Al Noor Banquet Hall. Vendors from around the Atlanta area\, including Matcha Rani\, Naji’s Fusion Cuisine\, and Khaana by Saima\, will be at the event. A portion of all ticket sales will be donated to Zakat Foundation. More info here.
URL:https://285south.com/event/atl-sehri-night/
LOCATION:Al Noor Banquet Hall\, 6010 Singleton Rd\, Norcross\, GA\, 30093\, United States
CATEGORIES:Shopping & Food
END:VEVENT
END:VCALENDAR