BEGIN:VCALENDAR
VERSION:2.0
PRODID:-//285 South - ECPv6.15.20//NONSGML v1.0//EN
CALSCALE:GREGORIAN
METHOD:PUBLISH
X-WR-CALNAME:285 South
X-ORIGINAL-URL:https://285south.com
X-WR-CALDESC:Events for 285 South
REFRESH-INTERVAL;VALUE=DURATION:PT1H
X-Robots-Tag:noindex
X-PUBLISHED-TTL:PT1H
BEGIN:VTIMEZONE
TZID:America/New_York
BEGIN:DAYLIGHT
TZOFFSETFROM:-0500
TZOFFSETTO:-0400
TZNAME:EDT
DTSTART:20250309T070000
END:DAYLIGHT
BEGIN:STANDARD
TZOFFSETFROM:-0400
TZOFFSETTO:-0500
TZNAME:EST
DTSTART:20251102T060000
END:STANDARD
BEGIN:DAYLIGHT
TZOFFSETFROM:-0500
TZOFFSETTO:-0400
TZNAME:EDT
DTSTART:20260308T070000
END:DAYLIGHT
BEGIN:STANDARD
TZOFFSETFROM:-0400
TZOFFSETTO:-0500
TZNAME:EST
DTSTART:20261101T060000
END:STANDARD
BEGIN:DAYLIGHT
TZOFFSETFROM:-0500
TZOFFSETTO:-0400
TZNAME:EDT
DTSTART:20270314T070000
END:DAYLIGHT
BEGIN:STANDARD
TZOFFSETFROM:-0400
TZOFFSETTO:-0500
TZNAME:EST
DTSTART:20271107T060000
END:STANDARD
END:VTIMEZONE
BEGIN:VEVENT
DTSTART;VALUE=DATE:20260123
DTEND;VALUE=DATE:20260406
DTSTAMP:20260422T141230
CREATED:20260127T145848Z
LAST-MODIFIED:20260313T194847Z
UID:8318-1769126400-1775433599@285south.com
SUMMARY:Prisontown
DESCRIPTION:Written by and starring former Out of Hand Associate Artistic Director\, Lee Osorio\, Prisontown is a play that follows a writer who goes home to Lumpkin\, GA\, which is home to one of the nation’s largest immigration detention centers. In the play\, presented in 40 living rooms across the metro area\,  the writer “witnesses the barbarity of the nation’s immigration crisis\, and a small town torn by poverty and the prison industry.” \nThe play will be presented until April 5\, 2026. Tickets here.
URL:https://285south.com/event/prisontown/
CATEGORIES:Entertainment
END:VEVENT
BEGIN:VEVENT
DTSTART;TZID=America/New_York:20260321T130000
DTEND;TZID=America/New_York:20260321T160000
DTSTAMP:20260422T141230
CREATED:20260316T022035Z
LAST-MODIFIED:20260317T171808Z
UID:8930-1774098000-1774108800@285south.com
SUMMARY:Eid & Mother's Day Picnic
DESCRIPTION:Palestine Children’s Relief Fund is holding a fundraiser picnic to celebrate Eid Al-Fitr\, Lent\, and Arab Mother’s Day. There will be “food\, games\, and activities for all ages\,” and all money raised “will go directly toward urgent relief efforts in Gaza.” \nTickets are $25 for adults and $10 for children under 10.
URL:https://285south.com/event/eid-mothers-day-picnic/
LOCATION:Jones Bridge Park\, 4901 E. Jones Bridge Rd.\, Peachtree Corners\, GA\, 30092\, United States
CATEGORIES:Community
END:VEVENT
BEGIN:VEVENT
DTSTART;TZID=America/New_York:20260321T150000
DTEND;TZID=America/New_York:20260321T220000
DTSTAMP:20260422T141230
CREATED:20260316T013605Z
LAST-MODIFIED:20260316T013605Z
UID:8786-1774105200-1774130400@285south.com
SUMMARY:Atlanta Eid Festival
DESCRIPTION:“The Largest Eid Festival in Atlanta is Here.” \nFeaturing cultural showcases\, games\, giveaways\, and a variety of food and goods vendors.
URL:https://285south.com/event/atlanta-eid-festival/
LOCATION:733 Pleasant Hill Road\, 733 Pleasant Hill Road\, Lilburn\, GA\, 30047\, United States
CATEGORIES:Community
END:VEVENT
BEGIN:VEVENT
DTSTART;TZID=America/New_York:20260321T160000
DTEND;TZID=America/New_York:20260321T190000
DTSTAMP:20260422T141230
CREATED:20260316T014538Z
LAST-MODIFIED:20260316T014816Z
UID:8689-1774108800-1774119600@285south.com
SUMMARY:Screening: "Mississippi Masala"
DESCRIPTION:Film screening of Mississippi Masala (USA-UK\, 1991)\, followed by a discussion panel with film scholars Dr. Koel Banerjee and Dr. Ankita Rathour. Free Indian food will be provided. \n  \n“Directed by Mira Nair\, Mississippi Masala is a film about postcolonial displacement\, nostalgia\, and the urgent need for cross racial empathy.”
URL:https://285south.com/event/mississippi-masala/
LOCATION:Cypress Theater @ John Lewis Student Center\, 351 Ferst Dr NW\, Atlanta\, GA\, 30332\, United States
CATEGORIES:Entertainment
END:VEVENT
BEGIN:VEVENT
DTSTART;TZID=America/New_York:20260321T180000
DTEND;TZID=America/New_York:20260321T213000
DTSTAMP:20260422T141230
CREATED:20260309T191651Z
LAST-MODIFIED:20260316T013332Z
UID:8726-1774116000-1774128600@285south.com
SUMMARY:Open Mic Night: 4 Years of Corazón a Corazón
DESCRIPTION:Corazón a Corazón\, an Atlanta-based open-mic and poetry slam group\, is celebrating their 4th Anniversary at Atlanta Chinatown.
URL:https://285south.com/event/4-years-of-corazon-a-corazon/
LOCATION:Atlanta Chinatown Mall\, 5383 New Peachtree Rd\, Chamblee\, 30341
CATEGORIES:Community
END:VEVENT
END:VCALENDAR