BEGIN:VCALENDAR
VERSION:2.0
PRODID:-//285 South - ECPv6.15.20//NONSGML v1.0//EN
CALSCALE:GREGORIAN
METHOD:PUBLISH
X-WR-CALNAME:285 South
X-ORIGINAL-URL:https://285south.com
X-WR-CALDESC:Events for 285 South
REFRESH-INTERVAL;VALUE=DURATION:PT1H
X-Robots-Tag:noindex
X-PUBLISHED-TTL:PT1H
BEGIN:VTIMEZONE
TZID:America/New_York
BEGIN:DAYLIGHT
TZOFFSETFROM:-0500
TZOFFSETTO:-0400
TZNAME:EDT
DTSTART:20250309T070000
END:DAYLIGHT
BEGIN:STANDARD
TZOFFSETFROM:-0400
TZOFFSETTO:-0500
TZNAME:EST
DTSTART:20251102T060000
END:STANDARD
BEGIN:DAYLIGHT
TZOFFSETFROM:-0500
TZOFFSETTO:-0400
TZNAME:EDT
DTSTART:20260308T070000
END:DAYLIGHT
BEGIN:STANDARD
TZOFFSETFROM:-0400
TZOFFSETTO:-0500
TZNAME:EST
DTSTART:20261101T060000
END:STANDARD
BEGIN:DAYLIGHT
TZOFFSETFROM:-0500
TZOFFSETTO:-0400
TZNAME:EDT
DTSTART:20270314T070000
END:DAYLIGHT
BEGIN:STANDARD
TZOFFSETFROM:-0400
TZOFFSETTO:-0500
TZNAME:EST
DTSTART:20271107T060000
END:STANDARD
END:VTIMEZONE
BEGIN:VEVENT
DTSTART;VALUE=DATE:20260123
DTEND;VALUE=DATE:20260406
DTSTAMP:20260422T094518
CREATED:20260127T145848Z
LAST-MODIFIED:20260313T194847Z
UID:8318-1769126400-1775433599@285south.com
SUMMARY:Prisontown
DESCRIPTION:Written by and starring former Out of Hand Associate Artistic Director\, Lee Osorio\, Prisontown is a play that follows a writer who goes home to Lumpkin\, GA\, which is home to one of the nation’s largest immigration detention centers. In the play\, presented in 40 living rooms across the metro area\,  the writer “witnesses the barbarity of the nation’s immigration crisis\, and a small town torn by poverty and the prison industry.” \nThe play will be presented until April 5\, 2026. Tickets here.
URL:https://285south.com/event/prisontown/
CATEGORIES:Entertainment
END:VEVENT
BEGIN:VEVENT
DTSTART;TZID=America/New_York:20260322T080000
DTEND;TZID=America/New_York:20260322T170000
DTSTAMP:20260422T094518
CREATED:20260322T180358Z
LAST-MODIFIED:20260322T222013Z
UID:9092-1774166400-1774198800@285south.com
SUMMARY:Shop Welcome
DESCRIPTION:Shop Welcome is a “community yard sale” featuring second-hand clothes\, local bites\, and coffee. All proceeds will go towards the Welcome Co-op\, a non-profit supporting refugees resettling in Georgia. \nYou can also help out with the event by volunteering or donating clothes. \nFind more information on here or on the Welcome Co-op’s website. \n 
URL:https://285south.com/event/shop-welcome/
LOCATION:Refuge Coffee Co. Clarkston\, 4170 E Ponce De Leon Ave.\, Clarkston\, GA\, 30021\, United States
CATEGORIES:Shopping & Food
END:VEVENT
BEGIN:VEVENT
DTSTART;TZID=America/New_York:20260322T141500
DTEND;TZID=America/New_York:20260322T163000
DTSTAMP:20260422T094518
CREATED:20260316T024119Z
LAST-MODIFIED:20260322T222517Z
UID:8960-1774188900-1774197000@285south.com
SUMMARY:Screening: "The Voice of Hind Rajab"
DESCRIPTION:The Alif Institute is holding a screening of The Voice of Hind Rajab\, a film based on the true story of a 5 year old girl trapped in a car under fire in Gaza. \nA lunch of Palestinian Muskhan chicken rolls (falafel sandwiches for vegetarians)\, Jerusalem salad\, dessert\, will  be served for $15. Movie tickets are free. \n 
URL:https://285south.com/event/the-voice-of-hind-rajab/
LOCATION:The Alif Institute\, 3288 Marjan Dr\, Atlanta\, GA\, 30340\, United States
CATEGORIES:Entertainment
ORGANIZER;CN="The Alif Institute":MAILTO:info@alifinstitute.org
END:VEVENT
END:VCALENDAR