BEGIN:VCALENDAR
VERSION:2.0
PRODID:-//285 South - ECPv6.15.20//NONSGML v1.0//EN
CALSCALE:GREGORIAN
METHOD:PUBLISH
X-ORIGINAL-URL:https://285south.com
X-WR-CALDESC:Events for 285 South
REFRESH-INTERVAL;VALUE=DURATION:PT1H
X-Robots-Tag:noindex
X-PUBLISHED-TTL:PT1H
BEGIN:VTIMEZONE
TZID:America/New_York
BEGIN:DAYLIGHT
TZOFFSETFROM:-0500
TZOFFSETTO:-0400
TZNAME:EDT
DTSTART:20250309T070000
END:DAYLIGHT
BEGIN:STANDARD
TZOFFSETFROM:-0400
TZOFFSETTO:-0500
TZNAME:EST
DTSTART:20251102T060000
END:STANDARD
BEGIN:DAYLIGHT
TZOFFSETFROM:-0500
TZOFFSETTO:-0400
TZNAME:EDT
DTSTART:20260308T070000
END:DAYLIGHT
BEGIN:STANDARD
TZOFFSETFROM:-0400
TZOFFSETTO:-0500
TZNAME:EST
DTSTART:20261101T060000
END:STANDARD
BEGIN:DAYLIGHT
TZOFFSETFROM:-0500
TZOFFSETTO:-0400
TZNAME:EDT
DTSTART:20270314T070000
END:DAYLIGHT
BEGIN:STANDARD
TZOFFSETFROM:-0400
TZOFFSETTO:-0500
TZNAME:EST
DTSTART:20271107T060000
END:STANDARD
END:VTIMEZONE
BEGIN:VEVENT
DTSTART;VALUE=DATE:20260123
DTEND;VALUE=DATE:20260406
DTSTAMP:20260422T053546
CREATED:20260127T145848Z
LAST-MODIFIED:20260313T194847Z
UID:8318-1769126400-1775433599@285south.com
SUMMARY:Prisontown
DESCRIPTION:Written by and starring former Out of Hand Associate Artistic Director\, Lee Osorio\, Prisontown is a play that follows a writer who goes home to Lumpkin\, GA\, which is home to one of the nation’s largest immigration detention centers. In the play\, presented in 40 living rooms across the metro area\,  the writer “witnesses the barbarity of the nation’s immigration crisis\, and a small town torn by poverty and the prison industry.” \nThe play will be presented until April 5\, 2026. Tickets here.
URL:https://285south.com/event/prisontown/
CATEGORIES:Entertainment
END:VEVENT
BEGIN:VEVENT
DTSTART;TZID=America/New_York:20260403T160000
DTEND;TZID=America/New_York:20260405T220000
DTSTAMP:20260422T053546
CREATED:20260309T192129Z
LAST-MODIFIED:20260322T232945Z
UID:8721-1775232000-1775426400@285south.com
SUMMARY:Panda Fest
DESCRIPTION:Panda Fest is an outdoor food festival featuring 80+ food vendors\, 20+ merchandise vendors\, and cultural performances from across Asia. \n  \nThis is a 3-day event with 2 types of tickets\, general admission and VIP. \nVisit their website for more ticket details. \n 
URL:https://285south.com/event/panda-fest/
LOCATION:Atlantic Station Pinnacle Lot\, 221 20th St\, Atlanta\, GA\, 30363\, United States
CATEGORIES:Shopping & Food
END:VEVENT
BEGIN:VEVENT
DTSTART;TZID=America/New_York:20260404T110000
DTEND;TZID=America/New_York:20260404T153000
DTSTAMP:20260422T053546
CREATED:20260309T192005Z
LAST-MODIFIED:20260322T233746Z
UID:8593-1775300400-1775316600@285south.com
SUMMARY:Juntos Recaudamos (Together We Raise)
DESCRIPTION:Caminar Latino is hosting their second Juntos Recaudamos (Together We Raise) community event featuring music\, food\, Zumba\, and more. \nThe event will be supporting their mission of “helping men\, women\, and children in Atlanta overcome domestic violence.” \n 
URL:https://285south.com/event/juntos-recaudamos-together-we-raise/
LOCATION:Keswick Community Building\, 3496 Keswick Drive\, Chamblee\, GA\, 30341\, United States
CATEGORIES:Community
END:VEVENT
BEGIN:VEVENT
DTSTART;TZID=America/New_York:20260404T120000
DTEND;TZID=America/New_York:20260404T230000
DTSTAMP:20260422T053546
CREATED:20260316T014034Z
LAST-MODIFIED:20260316T014034Z
UID:8603-1775304000-1775343600@285south.com
SUMMARY:MuchachoFest
DESCRIPTION:The 1st Annual MuchachoFest is celebrating the opening of Muchacho’s new West Midtown location. \nThere will be a live band\, DJ\, fortune teller\, skate park\, and more!
URL:https://285south.com/event/muchachofest/
LOCATION:Muchacho\, 1145 Hemphill Ave NW\, Atlanta\, GA\, 30318\, United States
CATEGORIES:Shopping & Food
END:VEVENT
END:VCALENDAR