BEGIN:VCALENDAR
VERSION:2.0
PRODID:-//285 South - ECPv6.15.20//NONSGML v1.0//EN
CALSCALE:GREGORIAN
METHOD:PUBLISH
X-ORIGINAL-URL:https://285south.com
X-WR-CALDESC:Events for 285 South
REFRESH-INTERVAL;VALUE=DURATION:PT1H
X-Robots-Tag:noindex
X-PUBLISHED-TTL:PT1H
BEGIN:VTIMEZONE
TZID:America/New_York
BEGIN:DAYLIGHT
TZOFFSETFROM:-0500
TZOFFSETTO:-0400
TZNAME:EDT
DTSTART:20250309T070000
END:DAYLIGHT
BEGIN:STANDARD
TZOFFSETFROM:-0400
TZOFFSETTO:-0500
TZNAME:EST
DTSTART:20251102T060000
END:STANDARD
BEGIN:DAYLIGHT
TZOFFSETFROM:-0500
TZOFFSETTO:-0400
TZNAME:EDT
DTSTART:20260308T070000
END:DAYLIGHT
BEGIN:STANDARD
TZOFFSETFROM:-0400
TZOFFSETTO:-0500
TZNAME:EST
DTSTART:20261101T060000
END:STANDARD
BEGIN:DAYLIGHT
TZOFFSETFROM:-0500
TZOFFSETTO:-0400
TZNAME:EDT
DTSTART:20270314T070000
END:DAYLIGHT
BEGIN:STANDARD
TZOFFSETFROM:-0400
TZOFFSETTO:-0500
TZNAME:EST
DTSTART:20271107T060000
END:STANDARD
END:VTIMEZONE
BEGIN:VEVENT
DTSTART;TZID=America/New_York:20260425T083000
DTEND;TZID=America/New_York:20260425T170000
DTSTAMP:20260422T095032
CREATED:20260316T013849Z
LAST-MODIFIED:20260318T162653Z
UID:8614-1777105800-1777136400@285south.com
SUMMARY:Atlanta International 5K/10K - Rep Your Flag
DESCRIPTION:The 2nd Annual Atlanta International 5K/10K – Rep Your Flag is an international run/walk where participants are able to represent their heritage\, roots\, or favorite country. Find the route and more information here.
URL:https://285south.com/event/atlanta-international-5k-10k/
LOCATION:300 Colonial Homes Dr.\, 300 Colonial Homes Dr.\, Atlanta\, GA\, 30309\, United States
CATEGORIES:Community
END:VEVENT
BEGIN:VEVENT
DTSTART;TZID=America/New_York:20260425T110000
DTEND;TZID=America/New_York:20260425T160000
DTSTAMP:20260422T095032
CREATED:20260322T215432Z
LAST-MODIFIED:20260322T215432Z
UID:9132-1777114800-1777132800@285south.com
SUMMARY:Atlanta Chinatown Market
DESCRIPTION:The Atlanta Chinatown Market is a monthly event at Chinatown Mall “featuring local vendors\, live music\, art\, traditional Chinese food and much more.” \nSpecific vendors and performers are to be announced.
URL:https://285south.com/event/atlanta-chinatown-market-2/
LOCATION:Atlanta Chinatown Mall\, 5383 New Peachtree Rd\, Chamblee\, 30341
CATEGORIES:Shopping & Food
END:VEVENT
BEGIN:VEVENT
DTSTART;TZID=America/New_York:20260503T120000
DTEND;TZID=America/New_York:20260503T160000
DTSTAMP:20260422T095032
CREATED:20260316T014420Z
LAST-MODIFIED:20260318T162908Z
UID:8625-1777809600-1777824000@285south.com
SUMMARY:SouthEats 2026
DESCRIPTION:Asian Americans Advancing Justice-Atlanta is hosting its annual SouthEats –  a food festival celebrating the Asian Diaspora in Georgia for Asian Pacific American History Month. Proceeds from the event will support the nonprofit’s work to advance civil and human rights for diverse communities in the South.
URL:https://285south.com/event/southeats-2026/
LOCATION:Park Tavern\, 500 10th St NE\, Atlanta\, GA\, 30309\, United States
CATEGORIES:Shopping & Food
END:VEVENT
BEGIN:VEVENT
DTSTART;VALUE=DATE:20260515
DTEND;VALUE=DATE:20260518
DTSTAMP:20260422T095032
CREATED:20260407T164903Z
LAST-MODIFIED:20260407T164903Z
UID:9280-1778803200-1779062399@285south.com
SUMMARY:Marietta Greek Festival 2026
DESCRIPTION:The Holy Transfiguration Greek Orthodox Church is hosting the 36th annual Marietta Greek Festival from May 15th to the 17th. The event will feature Greek foods\, music\, and dancing\, and people will enjoy a taste of Greek culture as they walk through the church grounds. Tickets and more information here. \n 
URL:https://285south.com/event/marietta-greek-festival-2026/
LOCATION:Holy Transfiguration Greek Orthodox Church\, 3431 Trickum Road\, Marietta\, 30066\, United States
END:VEVENT
END:VCALENDAR