BEGIN:VCALENDAR
VERSION:2.0
PRODID:-//285 South - ECPv6.15.20//NONSGML v1.0//EN
CALSCALE:GREGORIAN
METHOD:PUBLISH
X-WR-CALNAME:285 South
X-ORIGINAL-URL:https://285south.com
X-WR-CALDESC:Events for 285 South
REFRESH-INTERVAL;VALUE=DURATION:PT1H
X-Robots-Tag:noindex
X-PUBLISHED-TTL:PT1H
BEGIN:VTIMEZONE
TZID:America/New_York
BEGIN:DAYLIGHT
TZOFFSETFROM:-0500
TZOFFSETTO:-0400
TZNAME:EDT
DTSTART:20230312T070000
END:DAYLIGHT
BEGIN:STANDARD
TZOFFSETFROM:-0400
TZOFFSETTO:-0500
TZNAME:EST
DTSTART:20231105T060000
END:STANDARD
BEGIN:DAYLIGHT
TZOFFSETFROM:-0500
TZOFFSETTO:-0400
TZNAME:EDT
DTSTART:20240310T070000
END:DAYLIGHT
BEGIN:STANDARD
TZOFFSETFROM:-0400
TZOFFSETTO:-0500
TZNAME:EST
DTSTART:20241103T060000
END:STANDARD
BEGIN:DAYLIGHT
TZOFFSETFROM:-0500
TZOFFSETTO:-0400
TZNAME:EDT
DTSTART:20250309T070000
END:DAYLIGHT
BEGIN:STANDARD
TZOFFSETFROM:-0400
TZOFFSETTO:-0500
TZNAME:EST
DTSTART:20251102T060000
END:STANDARD
END:VTIMEZONE
BEGIN:VEVENT
DTSTART;TZID=America/New_York:20240427T110000
DTEND;TZID=America/New_York:20240427T130000
DTSTAMP:20260422T073143
CREATED:20240422T161655Z
LAST-MODIFIED:20240422T161655Z
UID:4099-1714215600-1714222800@285south.com
SUMMARY:Grocery Distribution
DESCRIPTION:Asian Americans Advancing Justice – Atlanta is distributing free groceries for local families. \n  \n 
URL:https://285south.com/event/grocery-distribution/
LOCATION:Tabernaculo De La Paz\, 1 Georgia Ave\, Gainesville\, GA\, 30501\, United States
END:VEVENT
BEGIN:VEVENT
DTSTART;TZID=America/New_York:20240427T100000
DTEND;TZID=America/New_York:20240427T150000
DTSTAMP:20260422T073143
CREATED:20240423T145935Z
LAST-MODIFIED:20240423T145935Z
UID:4119-1714212000-1714230000@285south.com
SUMMARY:Youth Health Fair in Clarkston
DESCRIPTION:The DeKalb County Office of Youth Services and the DeKalb County Board of Health are hosting a day-long health fair at the Clarkson Community Center. The event will include: free sports physicals\, vaccination stations\, vision and hearing screenings\, distribution of car seats\, and a chance to win a $100 gift card.
URL:https://285south.com/event/youth-health-fair-in-clarkston/
LOCATION:Clarkston Community Center
END:VEVENT
END:VCALENDAR