BEGIN:VCALENDAR
VERSION:2.0
PRODID:-//285 South - ECPv6.15.20//NONSGML v1.0//EN
CALSCALE:GREGORIAN
METHOD:PUBLISH
X-ORIGINAL-URL:https://285south.com
X-WR-CALDESC:Events for 285 South
REFRESH-INTERVAL;VALUE=DURATION:PT1H
X-Robots-Tag:noindex
X-PUBLISHED-TTL:PT1H
BEGIN:VTIMEZONE
TZID:America/New_York
BEGIN:DAYLIGHT
TZOFFSETFROM:-0500
TZOFFSETTO:-0400
TZNAME:EDT
DTSTART:20240310T070000
END:DAYLIGHT
BEGIN:STANDARD
TZOFFSETFROM:-0400
TZOFFSETTO:-0500
TZNAME:EST
DTSTART:20241103T060000
END:STANDARD
BEGIN:DAYLIGHT
TZOFFSETFROM:-0500
TZOFFSETTO:-0400
TZNAME:EDT
DTSTART:20250309T070000
END:DAYLIGHT
BEGIN:STANDARD
TZOFFSETFROM:-0400
TZOFFSETTO:-0500
TZNAME:EST
DTSTART:20251102T060000
END:STANDARD
BEGIN:DAYLIGHT
TZOFFSETFROM:-0500
TZOFFSETTO:-0400
TZNAME:EDT
DTSTART:20260308T070000
END:DAYLIGHT
BEGIN:STANDARD
TZOFFSETFROM:-0400
TZOFFSETTO:-0500
TZNAME:EST
DTSTART:20261101T060000
END:STANDARD
END:VTIMEZONE
BEGIN:VEVENT
DTSTART;TZID=America/New_York:20250710T090000
DTEND;TZID=America/New_York:20250710T130000
DTSTAMP:20260424T115508
CREATED:20250703T175851Z
LAST-MODIFIED:20250703T175851Z
UID:7177-1752138000-1752152400@285south.com
SUMMARY:DeKalb County Job Fair
DESCRIPTION:Learn about more than 500 positions available at the DeKalb County Job Fair. Employers like DeKalb County\, Grady\, Emory\, and the Georgia Department of Public Health are hiring for many positions including: sanitation drivers\, engineers\, project managers\, fire fighters\, admin support specialists\, and facilities and grounds maintenance staff.
URL:https://285south.com/event/dekalb-county-job-fair/
LOCATION:Georgia Piedmont Technical College\, 495 N. Indian Creek Drive\, Clarkston
END:VEVENT
BEGIN:VEVENT
DTSTART;TZID=America/New_York:20250719T120000
DTEND;TZID=America/New_York:20250719T190000
DTSTAMP:20260424T115508
CREATED:20250619T191521Z
LAST-MODIFIED:20250619T191521Z
UID:7051-1752926400-1752951600@285south.com
SUMMARY:Atlanta Summer Halal Food Festival
DESCRIPTION:Atlantic Station will be the site of the first ever Atlanta Summer Halal Food Festival\, featuring dozens of vendors from around the area. Among them\, Wowbooza\, Aviva\, Master Butcher\, Om Ali’s Honeycomb\, Olive by the Fig and more. Interested in vending? Vendor sign up deadline is June 30. More info here.
URL:https://285south.com/event/atlanta-summer-halal-food-festival/
LOCATION:Atlantic Station\, 221 20th St\, Atlanta\, Ga\, 30363
END:VEVENT
BEGIN:VEVENT
DTSTART;VALUE=DATE:20250721
DTEND;VALUE=DATE:20250727
DTSTAMP:20260424T115508
CREATED:20250722T190939Z
LAST-MODIFIED:20250722T190939Z
UID:7233-1753056000-1753574399@285south.com
SUMMARY:Buckhead Restaurant Week
DESCRIPTION:Buckhead Restaurant Week is happening now\, through Saturday\, July 26. More than 50 restaurants in the area signed up\, offering prix fixe menus\, food and dessert combos\, for people to try at discounted rates. Some of the international food restaurants participating include the Mexican and Latin American cuisine\, Alma Cocina; the Spanish tapas bar\, Boqueria; and JINYA Ramen Bar. To learn more\, click here.
URL:https://285south.com/event/buckhead-restaurant-week/
LOCATION:Buckhead
END:VEVENT
BEGIN:VEVENT
DTSTART;TZID=America/New_York:20250726T110000
DTEND;TZID=America/New_York:20250726T180000
DTSTAMP:20260424T115508
CREATED:20250722T190751Z
LAST-MODIFIED:20250722T190751Z
UID:7230-1753527600-1753552800@285south.com
SUMMARY:Atlanta Ice Cream Festival
DESCRIPTION:The Atlanta Ice Cream Festival will be celebrating its 15th edition this Saturday\, July 26\, at Piedmont Park. The admission-free event will have 130 vendors offering ice cream and other options of food options\, while also featuring artisans and providing health screenings. It will take place between 11 am and 6 pm. More information about the parking and transportation options here. 
URL:https://285south.com/event/atlanta-ice-cream-festival/
LOCATION:Piedmont Park at 10th Street & Charles Allen Drive
END:VEVENT
BEGIN:VEVENT
DTSTART;TZID=America/New_York:20250729T170000
DTEND;TZID=America/New_York:20250729T210000
DTSTAMP:20260424T115508
CREATED:20250728T194247Z
LAST-MODIFIED:20250728T194247Z
UID:7255-1753808400-1753822800@285south.com
SUMMARY:Fundraiser for Emory Farmworker Project
DESCRIPTION:Want to support the Emory Farmworker Project? Ten percent of meal purchases at Farm Burger in Decatur on Tuesday evening will go to support the group’s work to provide mobile healthcare to Georgia’s farm workers. More info (but not a lot!) here.
URL:https://285south.com/event/fundraiser-for-emory-farmworker-project/
LOCATION:Farm Burger\, 410B W Ponce de Leon Ave\, Decatur\, 30030
END:VEVENT
END:VCALENDAR